BEGIN:VCALENDAR
VERSION:2.0
PRODID:-//033opdefiets: alles over fietsen in Amersfoort en Leusden - ECPv6.15.14//NONSGML v1.0//EN
CALSCALE:GREGORIAN
METHOD:PUBLISH
X-ORIGINAL-URL:https://033opdefiets.nl
X-WR-CALDESC:Evenementen voor 033opdefiets: alles over fietsen in Amersfoort en Leusden
REFRESH-INTERVAL;VALUE=DURATION:PT1H
X-Robots-Tag:noindex
X-PUBLISHED-TTL:PT1H
BEGIN:VTIMEZONE
TZID:Europe/Amsterdam
BEGIN:DAYLIGHT
TZOFFSETFROM:+0100
TZOFFSETTO:+0200
TZNAME:CEST
DTSTART:20200329T010000
END:DAYLIGHT
BEGIN:STANDARD
TZOFFSETFROM:+0200
TZOFFSETTO:+0100
TZNAME:CET
DTSTART:20201025T010000
END:STANDARD
BEGIN:DAYLIGHT
TZOFFSETFROM:+0100
TZOFFSETTO:+0200
TZNAME:CEST
DTSTART:20210328T010000
END:DAYLIGHT
BEGIN:STANDARD
TZOFFSETFROM:+0200
TZOFFSETTO:+0100
TZNAME:CET
DTSTART:20211031T010000
END:STANDARD
BEGIN:DAYLIGHT
TZOFFSETFROM:+0100
TZOFFSETTO:+0200
TZNAME:CEST
DTSTART:20220327T010000
END:DAYLIGHT
BEGIN:STANDARD
TZOFFSETFROM:+0200
TZOFFSETTO:+0100
TZNAME:CET
DTSTART:20221030T010000
END:STANDARD
BEGIN:DAYLIGHT
TZOFFSETFROM:+0100
TZOFFSETTO:+0200
TZNAME:CEST
DTSTART:20230326T010000
END:DAYLIGHT
BEGIN:STANDARD
TZOFFSETFROM:+0200
TZOFFSETTO:+0100
TZNAME:CET
DTSTART:20231029T010000
END:STANDARD
BEGIN:DAYLIGHT
TZOFFSETFROM:+0100
TZOFFSETTO:+0200
TZNAME:CEST
DTSTART:20240331T010000
END:DAYLIGHT
BEGIN:STANDARD
TZOFFSETFROM:+0200
TZOFFSETTO:+0100
TZNAME:CET
DTSTART:20241027T010000
END:STANDARD
BEGIN:DAYLIGHT
TZOFFSETFROM:+0100
TZOFFSETTO:+0200
TZNAME:CEST
DTSTART:20250330T010000
END:DAYLIGHT
BEGIN:STANDARD
TZOFFSETFROM:+0200
TZOFFSETTO:+0100
TZNAME:CET
DTSTART:20251026T010000
END:STANDARD
END:VTIMEZONE
BEGIN:VEVENT
DTSTART;TZID=Europe/Amsterdam:20240525T080000
DTEND;TZID=Europe/Amsterdam:20240525T170000
DTSTAMP:20260422T212521
CREATED:20240716T144822Z
LAST-MODIFIED:20240716T144822Z
UID:3675-1716624000-1716656400@033opdefiets.nl
SUMMARY:Ontdek de F199
DESCRIPTION:Op zaterdag 25 mei en 1 juni kan iedereen de F199 zelf ontdekken. Doe mee met een verrassende ontdekkingstocht over de net geopende doorfietsroute\, leer anders kijken en deel je bevindingen op het ontdekkingsplein. Voor iedereen die meefietst is er een mini-ontdekgids en een gratis ijsje. Meer info over deze kennismakingsactie is te vinden op de website van Ikfiets
URL:https://033opdefiets.nl/event/ontdek-de-f199/
LOCATION:Amersfoort\, Nederland
CATEGORIES:Evenementen van derden
END:VEVENT
BEGIN:VEVENT
DTSTART;VALUE=DATE:20211001
DTEND;VALUE=DATE:20220502
DTSTAMP:20260422T212521
CREATED:20211205T153128Z
LAST-MODIFIED:20211205T153408Z
UID:3477-1633046400-1651449599@033opdefiets.nl
SUMMARY:Doe mee met Ik fiets!
DESCRIPTION:Ken jij Ik fiets al? Met de Ik fiets campagne word jij uitgedaagd (vaker) op de fiets te stappen. Voor ritjes naar het werk\, naar de sportvereniging\, het winkelcentrum of school. Fietsen is ontspannend\, plezierig\, je blijft fit en hebt altijd een parkeerplaats. Iedereen doet mee\, iedereen kan op de fiets en nu dus ook in Amersfoort en Leusden!
URL:https://033opdefiets.nl/event/doe-mee-met-ik-fiets/
CATEGORIES:Evenementen van derden
END:VEVENT
END:VCALENDAR