BEGIN:VCALENDAR
VERSION:2.0
PRODID:-//033opdefiets: alles over fietsen in Amersfoort en Leusden - ECPv6.15.14//NONSGML v1.0//EN
CALSCALE:GREGORIAN
METHOD:PUBLISH
X-ORIGINAL-URL:https://033opdefiets.nl
X-WR-CALDESC:Evenementen voor 033opdefiets: alles over fietsen in Amersfoort en Leusden
REFRESH-INTERVAL;VALUE=DURATION:PT1H
X-Robots-Tag:noindex
X-PUBLISHED-TTL:PT1H
BEGIN:VTIMEZONE
TZID:Europe/Amsterdam
BEGIN:DAYLIGHT
TZOFFSETFROM:+0100
TZOFFSETTO:+0200
TZNAME:CEST
DTSTART:20160327T010000
END:DAYLIGHT
BEGIN:STANDARD
TZOFFSETFROM:+0200
TZOFFSETTO:+0100
TZNAME:CET
DTSTART:20161030T010000
END:STANDARD
BEGIN:DAYLIGHT
TZOFFSETFROM:+0100
TZOFFSETTO:+0200
TZNAME:CEST
DTSTART:20170326T010000
END:DAYLIGHT
BEGIN:STANDARD
TZOFFSETFROM:+0200
TZOFFSETTO:+0100
TZNAME:CET
DTSTART:20171029T010000
END:STANDARD
BEGIN:DAYLIGHT
TZOFFSETFROM:+0100
TZOFFSETTO:+0200
TZNAME:CEST
DTSTART:20180325T010000
END:DAYLIGHT
BEGIN:STANDARD
TZOFFSETFROM:+0200
TZOFFSETTO:+0100
TZNAME:CET
DTSTART:20181028T010000
END:STANDARD
BEGIN:DAYLIGHT
TZOFFSETFROM:+0100
TZOFFSETTO:+0200
TZNAME:CEST
DTSTART:20190331T010000
END:DAYLIGHT
BEGIN:STANDARD
TZOFFSETFROM:+0200
TZOFFSETTO:+0100
TZNAME:CET
DTSTART:20191027T010000
END:STANDARD
END:VTIMEZONE
BEGIN:VEVENT
DTSTART;TZID=Europe/Amsterdam:20180910T073000
DTEND;TZID=Europe/Amsterdam:20180910T090000
DTSTAMP:20260422T230013
CREATED:20180905T123652Z
LAST-MODIFIED:20180905T123707Z
UID:2309-1536564600-1536570000@033opdefiets.nl
SUMMARY:Fietsers bedankt! Leusden: kruising Randweg-Plesmanstraat
DESCRIPTION:Op maandag 10 september zal Team 033opdefiets fietsers in alle vroegte bedanken voor het kiezen van de fiets op de kruising kruising Randweg-Plesmanstraat in Leusden. Zien we jou ook?
URL:https://033opdefiets.nl/event/fietsers-bedankt-leusden-kruising-randweg-plesmanstraat/
LOCATION:Leusden Randweg-Plesmanstraat\, Randweg\, Leusden
CATEGORIES:Fietsers bedankt!
END:VEVENT
BEGIN:VEVENT
DTSTART;VALUE=DATE:20180826
DTEND;VALUE=DATE:20180827
DTSTAMP:20260422T230013
CREATED:20180822T140218Z
LAST-MODIFIED:20180822T140218Z
UID:2253-1535241600-1535327999@033opdefiets.nl
SUMMARY:Instaride033
DESCRIPTION:Na de succesvolle edities van #InstawalkAmersfoort is het tijd om de benenwagen te verruilen voor een unieke fiets en op die manier het mooie Amersfoort (033) en omgeving te ontdekken. \nVia verschillende lokale fietsfanaten hebben we 15 unieke fietsen beschikbaar tijdens de rit op 26 augustus. Tijdens de instaride kun je eventueel met elkaar je fiets swappen als je bijvoorbeeld altijd al op een echte Fixie Brothers of WOOD you reCYCLE fiets hebt willen fietsen.\nWe starten om 9:30 uur en zijn ongeveer 14:00 uur weer terug. We fietsen in totaal 15-20 km én beginnen de route met een tochtje over het water met de fietsboot! \nInmiddels is dit evenement vol!!
URL:https://033opdefiets.nl/event/instaride033/
CATEGORIES:033opdefiets
END:VEVENT
BEGIN:VEVENT
DTSTART;TZID=Europe/Amsterdam:20180712T073000
DTEND;TZID=Europe/Amsterdam:20180712T090000
DTSTAMP:20260422T230013
CREATED:20180710T134619Z
LAST-MODIFIED:20180710T134619Z
UID:2239-1531380600-1531386000@033opdefiets.nl
SUMMARY:Fietsers bedankt! Leusden: kruising Heiligenbergerweg - Groene Zoom
DESCRIPTION:Op donderdag 12 juli zal Team 033opdefiets fietsers in alle vroegte bedanken voor het kiezen van de fiets op de kruising Heiligenbergerweg – Groene Zoom in Leusden. Bovendien worden zij bedankt voor hun geduld tijdens de wegwerkzaamheden.
URL:https://033opdefiets.nl/event/fietsers-bedankt-amersfoort-kruising-hoefseweg-computerweg-2/
END:VEVENT
BEGIN:VEVENT
DTSTART;TZID=Europe/Amsterdam:20180711T073000
DTEND;TZID=Europe/Amsterdam:20180711T090000
DTSTAMP:20260422T230013
CREATED:20180710T134341Z
LAST-MODIFIED:20180710T134341Z
UID:2235-1531294200-1531299600@033opdefiets.nl
SUMMARY:Fietsers bedankt! Amersfoort: kruising Hoefseweg - Computerweg
DESCRIPTION:Op woensdag 11 juli zal Team 033opdefiets fietsers in alle vroegte bedanken voor het kiezen van de fiets op De Hoef in Amersfoort. Bovendien krijgen fietsers voorrang op de kruising Hoefseweg – Computerweg!
URL:https://033opdefiets.nl/event/fietsers-bedankt-amersfoort-kruising-hoefseweg-computerweg/
END:VEVENT
BEGIN:VEVENT
DTSTART;TZID=Europe/Amsterdam:20180624T130000
DTEND;TZID=Europe/Amsterdam:20180624T170000
DTSTAMP:20260422T230013
CREATED:20180603T160000Z
LAST-MODIFIED:20180603T160000Z
UID:2175-1529845200-1529859600@033opdefiets.nl
SUMMARY:Fiets mee van Mondriaan naar Rietveld!
DESCRIPTION:Op zondag 24 juni start om 13:00 uur in Amersfoort bij het Mondriaanhuis een fietstocht. Deelnemers fietsen langs de verschillende beelden door vijf gemeentes; Amersfoort\, Soest\, Den Dolder\, De Bilt\, Utrecht. Het eindpunt is het Centraal Museum. Het gaat deze dag niet om wie het snelste kan fietsen\, maar om de plezier van het fietsen in een mooie omgeving. Stadsfiets\, ligfiets\, éénwieler of driewieler\, iedereen kan op zijn eigen fiets meedoen in eigen tempo. De deelnemende fietsers worden uitgedaagd om het traject van ongeveer 20 km extra goed te observeren. Bij verschillende beelden kunnen de deelnemers punten verzamelen en vragen beantwoorden waarmee ze kans maken op leuke prijzen. Alle deelnemende fietsers moeten uiterlijk om 16.00 bij het Centraal Museum zijn waar er een prijsuitreiking is en onder alle deelnemers wordt een fiets verloot.
URL:https://033opdefiets.nl/event/fiets-mee-van-mondriaan-naar-rietveld/
END:VEVENT
BEGIN:VEVENT
DTSTART;VALUE=DATE:20180612
DTEND;VALUE=DATE:20180613
DTSTAMP:20260422T230013
CREATED:20180601T095627Z
LAST-MODIFIED:20180601T100118Z
UID:2149-1528761600-1528847999@033opdefiets.nl
SUMMARY:Autoloze dinsdag
DESCRIPTION:Diverse Amersfoortse bedrijven doen op 12 juni mee aan Autoloze Dinsdag. Een dag waarop het personeel de auto laat staan en bewust kiest voor een duurzaam alternatief. Dat betekent op de fiets\, te voet\, met het OV of via carpool naar het werk. Thuiswerken mag ook. Zo wordt enorm veel CO2-uitstoot bespaard. Wilt u uw organisatie ook laten aansluiten? Kijk dan op: https://lnkd.in/egJAJKj
URL:https://033opdefiets.nl/event/autoloze-dinsdag/
END:VEVENT
BEGIN:VEVENT
DTSTART;VALUE=DATE:20180603
DTEND;VALUE=DATE:20180604
DTSTAMP:20260422T230013
CREATED:20180601T100043Z
LAST-MODIFIED:20180601T100043Z
UID:2153-1527984000-1528070399@033opdefiets.nl
SUMMARY:Wereld Fietsdag
DESCRIPTION:De Verenigde Naties heeft 3 juni officieel uitgeroepen tot Wereld Fietsdag. De resolutie werd aangenomen door een consensus van 193 lidstaten en nodigt alle lidstaten en relevante belanghebbenden uit om het bewustzijn van de Wereldfietsdag te vieren en te bevorderen. Extra aandacht moet gaan naar het opnemen van de fiets in internationale\, regionale\, nationale en subnationale ontwikkelingsbeleidslijnen en -programma’s.
URL:https://033opdefiets.nl/event/wereld-fietsdag/
END:VEVENT
BEGIN:VEVENT
DTSTART;TZID=Europe/Amsterdam:20180108T183000
DTEND;TZID=Europe/Amsterdam:20180108T190000
DTSTAMP:20260422T230013
CREATED:20171229T193823Z
LAST-MODIFIED:20171229T193823Z
UID:2029-1515436200-1515438000@033opdefiets.nl
SUMMARY:NieuwjaarsReceptival van Hof naar Hoef
DESCRIPTION:Begin het nieuwe jaar goed en kom op 8 januari naar het NieuwjaarsReceptival van de gemeente. De jaarlijkse nieuwjaarsreceptie\, maar dan helemaal getransformeerd. U bent van harte welkom om te komen proeven\, dromen\, fietsen\, luisteren\, uitproberen én proosten op het nieuwe jaar. \nTransformatie staat centraal\, en welke locatie past daar nu beter bij dan De Hoef? Een gebied volop in ontwikkeling; vol met creatieve ondernemingen\, thuisbasis van bijzondere opleidingen en bruisende woonbuurt in wording. \nOp maandag 8 januari 2018 bent u vanaf 19.00 uur van harte welkom bij Data Club Offices (Databankweg 26-30). Op het festivalterrein laten lokale bedrijven\, organisaties en ondernemers graag zien wat De Hoef en onze stad allemaal voor bijzonders te bieden hebben. \nU kunt ook meeluisteren met het gesprek dat burgemeester Lucas Bolsius voert met een aantal bijzondere Amersfoorters. Een spannende avond wordt het ook\, want wie wordt de Amersfoorter van het jaar? Het AD maakt de uitslag bekend. Uiteraard proosten we op een mooi nieuw jaar. \nFiets mee van Hof naar Hoef\nEen extraatje dit jaar is de fietstocht ‘Van Hof naar Hoef’\, georganiseerd door Dirk Kaan van 033opdefiets. Fiets mee van het oude centrum van Amersfoort naar het NieuwjaarsReceptival op De Hoef. 033opdefiets stippelt de route uit\, wethouder Buijtelaar (sport) fietst mee. Stapt u ook op? Het is minder ver dan u denkt! \nFietsers verzamelen op de Hof voor café Halewijn om 18.20 uur. De tocht vertrekt om 18.30 uur en de verwachte aankomst is rond 18.50 uur. Verwacht een warm onthaal! \nAanmelden\nAanmelden (zowel voor de fietstocht als voor het NieuwjaarsReceptival) kan via: nieuwjaarsreceptie@amersfoort.nl.
URL:https://033opdefiets.nl/event/nieuwjaarsreceptival-van-hof-naar-hoef/
LOCATION:hof amersfoort\, Hof 14\, Amersfoort\, 3811 CJ\, Nederland
END:VEVENT
BEGIN:VEVENT
DTSTART;VALUE=DATE:20171209
DTEND;VALUE=DATE:20171210
DTSTAMP:20260422T230013
CREATED:20170630T213348Z
LAST-MODIFIED:20170630T215331Z
UID:1493-1512777600-1512863999@033opdefiets.nl
SUMMARY:Nationale Veldrit Wielervereniging Eemland
DESCRIPTION:Meer info op: http://www.fiets033.nl/
URL:https://033opdefiets.nl/event/nationale-veldrit-wielervereniging-eemland/
CATEGORIES:Evenementen van derden
END:VEVENT
BEGIN:VEVENT
DTSTART;TZID=Europe/Amsterdam:20171207T160000
DTEND;TZID=Europe/Amsterdam:20171207T180000
DTSTAMP:20260422T230013
CREATED:20171022T191635Z
LAST-MODIFIED:20171104T120646Z
UID:1899-1512662400-1512669600@033opdefiets.nl
SUMMARY:Route033
DESCRIPTION:033opdefiets nodigt u van harte uit voor Route033 op 7 december van 16.00 – 18.00 in De Nieuwe Stad in Amersfoort. Wanneer u betrokken bent bij de leefbaarheid en bereikbaarheid van Amersfoort\, bent u van harte welkom! \nRoute033 is de werknaam voor een weg die we kunnen inslaan naar de toekomst van Amersfoort. U en andere bewoners\, bedrijven\, organisaties en overheden hebben elkaar nodig om die toekomst en de weg ernaar toe te bepalen. Wij bieden u het platform om dit samen vorm en inhoud te geven. \nInloop vanaf 15.30 uur\nEinde en borrel 18.00 uur \nU kunt zich alvast aanmelden en eventueel uw vraagstukken en ambities kenbaar maken via info@033opdefiets.nl
URL:https://033opdefiets.nl/event/route033/
LOCATION:Fluor Café\, Oliemolenhof 22\, Amersfoort\, 3812 PB\, Nederland
CATEGORIES:033opdefiets
END:VEVENT
BEGIN:VEVENT
DTSTART;TZID=Europe/Amsterdam:20171025T160000
DTEND;TZID=Europe/Amsterdam:20171025T173000
DTSTAMP:20260422T230013
CREATED:20170823T101754Z
LAST-MODIFIED:20171013T081515Z
UID:1657-1508947200-1508952600@033opdefiets.nl
SUMMARY:WERKATELIER DE VITALE WIJK AMERSFOORT
DESCRIPTION:Kom je ook naar het Werkatelier De Vitale Wijk* op donderdag 25 oktober? 033opdefiets\, Beweeg MEER – Sportadvies/De Sportcombinatie\, StadsLAB033 en Blueways hebben elkaar gevonden op het onderwerp wandelen en fietsen in de wijk. Tijdens diverse gesprekken zijn de ambities gegroeid via de thema’s bewegen en beweegruimte naar het ‘ontwerpen’ van De Vitale Wijk. \nEen vitale wijk heeft meer ingrediënten dan beweging\, sport en gezondheid. Het heeft ongetwijfeld raakvlakken met ambities van bestaande organisaties en bewoners in de wijken van Amersfoort. Ook ontwikkelingen als de nieuwe omgevingswet die meer terreinen omvat dan ooit tevoren\, heeft mogelijk invloed op zo’n Vitale Wijk. In het Werkatelier De Vitale Wijk kunnen we ontdekken of partijen elkaar kunnen versterken om ambities te realiseren. Wil jij erbij zijn? \nNoteer dan alvast 25 oktober 2017 van 16.00-17.30 in je agenda. \n*Het Werkatelier De Vitale Wijk is een ander initiatief dan het Project Vitale wijken dat actief is in Liendert en eerder in het Stadshart\, Schothorst en Vathorst
URL:https://033opdefiets.nl/event/werkatelier-de-vitale-wijk-amersfoort/
LOCATION:StadsLAB033\, Oude Fabriekstraat 7\, Amersfoort\, 3812 NR\, Nederland
END:VEVENT
BEGIN:VEVENT
DTSTART;TZID=Europe/Amsterdam:20171024T163000
DTEND;TZID=Europe/Amsterdam:20171024T183000
DTSTAMP:20260422T230013
CREATED:20170630T200032Z
LAST-MODIFIED:20171012T161852Z
UID:1441-1508862600-1508869800@033opdefiets.nl
SUMMARY:Fietsers bedankt!
DESCRIPTION:033opdefiets zet op dinsdagmiddag 24 oktober van 16.30-18.30 uur fietsers in Amersfoort weer in het zonnetje. In het ondergaande zonnetje…..We moedigen je aan op de kruising Leusderweg-Kersenbaan met luid gejuich\, applaus en iets lekkers. Zo willen wij fietsers bedanken voor het fietsen! \nIn de nacht van zaterdag 28 oktober op zondag 29 oktober gaat de klok een uur achteruit. Dan geldt de wintertijd en wordt het weer eerder donker. En dat betekent extra aandacht voor de fietsverlichting. Veilig Verkeer Nederland zal fietsers hierop attent maken tijdens onze actie op 24 oktober. \nWil jij ook iets betekenen tijdens deze leuke middag? Stuur dan een mail of berichtje via een van onze kanalen! En kom je ons tegen? Dan vinden wij het leuk wanneer je je ervaringen op social media deelt met #033odf. We zien je graag!
URL:https://033opdefiets.nl/event/fietsers-bedankt-2410/
CATEGORIES:Fietsers bedankt!
ATTACH;FMTTYPE=image/jpeg:https://033opdefiets.nl/wp-content/uploads/2017/06/IMG_4207-kopie.jpeg
END:VEVENT
BEGIN:VEVENT
DTSTART;TZID=Europe/Amsterdam:20171014T140000
DTEND;TZID=Europe/Amsterdam:20171014T163000
DTSTAMP:20260422T230013
CREATED:20171002T095156Z
LAST-MODIFIED:20171002T095156Z
UID:1851-1507989600-1507998600@033opdefiets.nl
SUMMARY:Duurzame fietssafari
DESCRIPTION:IVN Amersfoort en Milieudefensie Amersfoort organiseren op 14 oktober een duurzame fietssafari! Meer informatie vind je op http://www.amersfoortduurzamestad.nl/activiteiten/duurzame-fietssafari/
URL:https://033opdefiets.nl/event/duurzame-fietssafari/
LOCATION:Het Lokaal\, Oliemolenhof 90\, Amersfoort\, 3812 NR
CATEGORIES:Evenementen van derden
END:VEVENT
BEGIN:VEVENT
DTSTART;VALUE=DATE:20171001
DTEND;VALUE=DATE:20171002
DTSTAMP:20260422T230013
CREATED:20170630T213250Z
LAST-MODIFIED:20170630T215347Z
UID:1489-1506816000-1506902399@033opdefiets.nl
SUMMARY:Toertocht MeeWind Koers
DESCRIPTION:Meer info op: http://www.fiets033.nl/
URL:https://033opdefiets.nl/event/toertocht-meewind-koers/
CATEGORIES:Evenementen van derden
END:VEVENT
BEGIN:VEVENT
DTSTART;VALUE=DATE:20171001
DTEND;VALUE=DATE:20171002
DTSTAMP:20260422T230013
CREATED:20170630T213202Z
LAST-MODIFIED:20170630T215407Z
UID:1485-1506816000-1506902399@033opdefiets.nl
SUMMARY:Kozakkenput MTB tocht
DESCRIPTION:Meer info op: http://www.fiets033.nl/
URL:https://033opdefiets.nl/event/kozakkenput-mtb-tocht/
CATEGORIES:Evenementen van derden
END:VEVENT
BEGIN:VEVENT
DTSTART;VALUE=DATE:20170930
DTEND;VALUE=DATE:20171001
DTSTAMP:20260422T230013
CREATED:20170630T213115Z
LAST-MODIFIED:20170630T215423Z
UID:1481-1506729600-1506815999@033opdefiets.nl
SUMMARY:SRO 50+ Fietstocht Amersfoort
DESCRIPTION:Meer info op: http://www.fiets033.nl/
URL:https://033opdefiets.nl/event/sro-50-fietstocht-amersfoort/
CATEGORIES:Evenementen van derden
END:VEVENT
BEGIN:VEVENT
DTSTART;TZID=Europe/Amsterdam:20170923T140000
DTEND;TZID=Europe/Amsterdam:20170923T170000
DTSTAMP:20260422T230013
CREATED:20170630T202615Z
LAST-MODIFIED:20170829T175037Z
UID:1447-1506175200-1506186000@033opdefiets.nl
SUMMARY:Challenge Bike versus Car
DESCRIPTION:De fiets is gemiddeld het snelste en gezondste vervoersmiddel voor een reisafstand van 1 tot 5 kilometer. Toch wordt er nog vaak voor de auto gekozen. Met de auto naar de stad\, de dierentuin of sportvereniging. \nGroeistad Amersfoort werkt de laatste jaren hard aan haar bereikbaarheid. Dit kan nog beter. Daarom gaan we op verkenning. Welke routes zijn sneller met de fiets? En waar ‘wint’ de heilige koe? Welke routes zijn er voor fietsers en automobilisten? En waar liggen verbeterkansen? Tijd voor de fietssafari annex Bike versus Car challenge. \nGa jij de uitdaging* aan? Met de auto of met de fiets? Neem jij een eigen tegenstander mee? \nSchrijf je in voor één van onderstaande etappes; \nEtappe 1 Van voetbalvereniging CJVV naar Dierenpark Amersfoort\nEtappe 2 Van Dierenpark Amersfoort naar atletiekvereniging Altis\nEtappe 3 Van atletiekvereniging Altis naar Ikea Amersfoort\nEtappe 4 Van Ikea Amersfoort naar het centrum van Amersfoort \n*we leggen de wedstrijd vast en zien toe op een strijd waarbij we ons aan de verkeersregels houden. \nAanmelden kan via info@033opdefiets.nl. Je kunt ook direct je eigen tegenstander opgeven!
URL:https://033opdefiets.nl/event/challenge-bike-versus-car/
LOCATION:Diverse locaties
CATEGORIES:Fietssafari
ATTACH;FMTTYPE=image/jpeg:https://033opdefiets.nl/wp-content/uploads/2017/06/033opdefiets-009.jpg
END:VEVENT
BEGIN:VEVENT
DTSTART;VALUE=DATE:20170923
DTEND;VALUE=DATE:20170925
DTSTAMP:20260422T230013
CREATED:20170630T212957Z
LAST-MODIFIED:20170630T215439Z
UID:1477-1506124800-1506297599@033opdefiets.nl
SUMMARY:Toertocht 2bike4alzheimer
DESCRIPTION:Meer info op: http://www.fiets033.nl/
URL:https://033opdefiets.nl/event/toertocht-2bike4alzheimer/
CATEGORIES:Evenementen van derden
END:VEVENT
BEGIN:VEVENT
DTSTART;TZID=Europe/Amsterdam:20170918T000000
DTEND;TZID=Europe/Amsterdam:20170924T233000
DTSTAMP:20260422T230013
CREATED:20170829T203323Z
LAST-MODIFIED:20170829T203412Z
UID:1727-1505692800-1506295800@033opdefiets.nl
SUMMARY:Fiets Telweek
DESCRIPTION:Tel mee voor een beter Nederland Fietsland \n18 tot en met 24 september 2017 is de derde editie van de Fiets Telweek. Hét jaarlijkse nationale fietsonderzoek waarin we een week lang zoveel mogelijk ritten registreren. Met een app meten we je snelheid\, het tijdstip\, met hoeveel tegelijk en waar de knelpunten zijn. \nDeze editie is groter dan ooit. De app biedt dit jaar de mogelijkheid om ook je fietsbeleving te registreren. Op bepaalde routes kan je je rit beoordelen en je ervaringen delen.  \nDownload de vernieuwde Fiets Tel-app via Google Play of Apple Store \nGoogle Play: http://ow.ly/W0zT30enOgA  \nApple Store: http://ow.ly/qWio30enOiT
URL:https://033opdefiets.nl/event/fiets-telweek/
CATEGORIES:Evenementen van derden
ATTACH;FMTTYPE=image/jpeg:https://033opdefiets.nl/wp-content/uploads/2017/08/FTW-Twitter-FB-ADV-1200x628-B.jpg
END:VEVENT
BEGIN:VEVENT
DTSTART;TZID=Europe/Amsterdam:20170916T080000
DTEND;TZID=Europe/Amsterdam:20170916T170000
DTSTAMP:20260422T230013
CREATED:20170630T212753Z
LAST-MODIFIED:20170630T215456Z
UID:1469-1505548800-1505581200@033opdefiets.nl
SUMMARY:Rabobank Amersfoort Groeistad Klassieker
DESCRIPTION:Meer info op: http://www.fiets033.nl/
URL:https://033opdefiets.nl/event/rabobank-amersfoort-groeistad-klassieker/
CATEGORIES:Evenementen van derden
END:VEVENT
BEGIN:VEVENT
DTSTART;VALUE=DATE:20170916
DTEND;VALUE=DATE:20170917
DTSTAMP:20260422T230013
CREATED:20170630T212855Z
LAST-MODIFIED:20170630T215512Z
UID:1473-1505520000-1505606399@033opdefiets.nl
SUMMARY:Schoolsport Kampioenschappen
DESCRIPTION:Meer info op: http://www.fiets033.nl/
URL:https://033opdefiets.nl/event/schoolsport-kampioenschappen/
CATEGORIES:Evenementen van derden
END:VEVENT
BEGIN:VEVENT
DTSTART;VALUE=DATE:20170909
DTEND;VALUE=DATE:20170910
DTSTAMP:20260422T230013
CREATED:20170817T084501Z
LAST-MODIFIED:20170829T203504Z
UID:1587-1504915200-1505001599@033opdefiets.nl
SUMMARY:International Cycling Film Festival Amersfoort
DESCRIPTION:Het elfde International Cycling Film Festival beleeft de eerste Amersfoortse Editie\, mede mogelijk gemaakt door 033opdefiets! Er worden maar liefst 18 films uit 11 landen getoond. Hoewel ze verschillen in stijl hebben ze één ding gemeen: de fiets staat centraal. \nLaat je verrassen door het veelzijdige programma met internationale allure.\nHet is zover; de eerste editie van het International Cycling Film Festival (ICFF) gaat plaatsvinden in Amersfoort. Als je van fietsen en van films houdt dan is er niets mooiers dan een filmfestival waarop alleen maar films te zien zijn met de fiets in de hoofdrol. In 2006 werd het ICFF opgericht in Bochum (Duitsland) om de fietscultuur te vieren. Al gauw was er ook belangstelling vanuit het buitenland en wordt het festival inmiddels op vijf plekken in Europa gehouden. \nEerst twee fietstochten\nDe eerste Amersfoortse editie begint zaterdagochtend 9 september met een actief deel. Het actieve deel bestaat uit twee verschillende tochten: 11.11 uur start de Cycling Espresso en 12.00 uur start de Amersfoortse Alleycat.\nVertrekpunt voor beide ritten is het O.L.V.-plein in Amersfoort. \nEn dan naar de film!\nDe tofste fietsfilms\, speciaal geselecteerd door en voor Amersfoort\, worden in twee filmblokken vertoond. Van 14.00 – 15.00 uur en van 15.30 – 16.30 uur. Je kunt één van de twee filmblokken bekijken óf allebei.\nToegang gratis. Haal uw vrijkaarten aan de kassa. \nAvondfilmprogramma\nFietsen is niet alleen van A naar B bewegen op twee wielen. Fietsen is een statement\, een manier om de wereld te veranderen. Een manier om te laten zien dat er een wereld mogelijk is die we zelf bouwen\, een wereld waar we open staan voor alles om ons heen en niet opgesloten zitten in een stalen doos. Fietsen laat zien dat positieve verandering mogelijk is\, een verandering waarbij we zelf onze weg kiezen. Over asfalt\, gravel of gras. Door bergen\, bossen of stad. Fietsen brengt mensen samen. \nHet International Cycling Film Festival is een viering van de fietscultuur in de breedste zin van het woord. We zien wielrenners in Qatar\, avontuurlijke fietsers in Groenland en een ware fiets-acrobaat uit Duitsland. We zien hoe de “Tall-bike” cultuur zich manifesteert in Canada en hoe niet alleen de makers van de Tall-bikes een lach op hun gezichten krijgen\, maar ook de mensen om hen heen. \nOm 18.30 uur begint het hoofdprogramma van het ICFF Amersfoort. Een afwisselend programma van internationale fietsfilms\, geselecteerd door het ICFF. Van animatie tot documentaire en van gesproken (verschillende talen) films tot films zonder taal. \nEntree € 9\,50 per persoon. \nZowel het middag- als het avondprogramma worden ingeleid door Erwin Zantinga die verbonden is aan de Groningse editie van het ICFF.
URL:https://033opdefiets.nl/event/international-cycling-film-festival-amersfoort/
ATTACH;FMTTYPE=image/jpeg:https://033opdefiets.nl/wp-content/uploads/2017/08/Fietsfilmfestival-Amersfoort-voor-web.jpg
END:VEVENT
BEGIN:VEVENT
DTSTART;TZID=Europe/Amsterdam:20170831T163000
DTEND;TZID=Europe/Amsterdam:20170831T183000
DTSTAMP:20260422T230013
CREATED:20170630T195001Z
LAST-MODIFIED:20170817T085925Z
UID:1433-1504197000-1504204200@033opdefiets.nl
SUMMARY:Fietsers bedankt!
DESCRIPTION:033opdefiets zet op donderdagmiddag 31 augustus fietsers in Amersfoort weer in het zonnetje. We moedigen je aan op de kruising Keerkring-Holkerweg-Ringweg Koppel-Zielhorsterweg met luid gejuich\, applaus en iets lekkers. Zo willen wij je bedanken voor het fietsen! \nFietsreparatie Vathorst zal met hun reparatiebus aanwezig zijn om indien nodig fietsers gratis te helpen met kleine bijstellingen en advies. “De mensen worden natuurlijk al heel vrolijk van jullie maar misschien nog meer als wij gratis iets voor ze kunnen doen. Hierbij bieden wij samen de fietsers vrolijkheid en service!”. \nWil jij ook iets betekenen tijdens deze leuke middag? Stuur dan een mail of berichtje via een van onze kanalen! En kom je ons tegen? Dan is het leuk wanneer je je ervaringen op social media deelt met #033odf. We zien je graag!
URL:https://033opdefiets.nl/event/fietsers-bedankt-3108/
LOCATION:@52.1674866\,5.3899748\,21z\, Keerkring\, Amersfoort\, 3812 NR\, Nederland
CATEGORIES:Fietsers bedankt!
ATTACH;FMTTYPE=image/jpeg:https://033opdefiets.nl/wp-content/uploads/2017/06/IMG_4147-kopie.jpeg
END:VEVENT
BEGIN:VEVENT
DTSTART;VALUE=DATE:20170819
DTEND;VALUE=DATE:20170820
DTSTAMP:20260422T230013
CREATED:20170630T212623Z
LAST-MODIFIED:20170630T215532Z
UID:1465-1503100800-1503187199@033opdefiets.nl
SUMMARY:Funwedstrijd voor vrouwen
DESCRIPTION:Meer info via http://www.fiets033.nl/
URL:https://033opdefiets.nl/event/funwedstrijd-voor-vrouwen/
CATEGORIES:Evenementen van derden
END:VEVENT
BEGIN:VEVENT
DTSTART;TZID=Europe/Amsterdam:20170716T104500
DTEND;TZID=Europe/Amsterdam:20170716T170000
DTSTAMP:20260422T230013
CREATED:20170630T211719Z
LAST-MODIFIED:20170630T212052Z
UID:1459-1500201900-1500224400@033opdefiets.nl
SUMMARY:Brompton Urban Challenge
DESCRIPTION:De Brompton Urban Challenge (BUC) komt naar Utrecht! Na het succes van alle andere BUC’s zal ook Kok Fietsen dit mooie evenement hosten. Gedurende deze dag zal je op je Brompton vouwfiets het centrum van Utrecht ontdekken en allerlei uitdagingen voldoen. \nKijk voor meer informatie op https://nl.brompton.com/Events/Posts/2017/BUC-Utrecht-2017
URL:https://033opdefiets.nl/event/brompton-urban-challenge/
LOCATION:Mariaplaats Utrecht\, Mariaplaats\, Utrecht\, Nederland
CATEGORIES:Evenementen van derden
END:VEVENT
BEGIN:VEVENT
DTSTART;TZID=Europe/Amsterdam:20170630T210000
DTEND;TZID=Europe/Amsterdam:20170702T173000
DTSTAMP:20260422T230013
CREATED:20170630T211006Z
LAST-MODIFIED:20170630T211006Z
UID:1455-1498856400-1499016600@033opdefiets.nl
SUMMARY:NK Fietskoerieren 2017
DESCRIPTION:Na 10 jaar komt het Open Nederlands Kampioenschap Fietskoerieren (officieel Open Dutch Cycle Messenger Championship) terug naar Utrecht! Van vrijdag 30 juni t/m zondag 2 juli tijdens Festival du Velo is er een weekend vol festiviteiten\, waaronder een Alley Cat\, Gold Sprint en Track Stand\, Tour de France Etappes op groot scherm en natuurlijk de Main Race. \nOp zaterdag 1 juli is de wielerbaan van de Nedereindse berg het podium voor de beste fietskoeriers van het land en wordt de Main Race gereden. Deelnemers zullen in drie categorieën (fietskoeriers\, vrachtfiets en foodkoeriers) van start gaan op het gesloten parcours. \nKijk voor meer info op: http://www.goodcycling.nl/nl/nk-fietskoerieren-2017.html
URL:https://033opdefiets.nl/event/nk-fietskoerieren-2017/
CATEGORIES:Evenementen van derden
END:VEVENT
END:VCALENDAR